BEGIN:VCALENDAR
VERSION:2.0
PRODID:-//myllife.org//NONSGML kigkonsult.se iCalcreator 2.30.10//
CALSCALE:GREGORIAN
METHOD:PUBLISH
UID:7a940676-4f35-4fed-842e-39f24193c48d
X-WR-CALDESC:
X-WR-RELCALID:69e83087d62efacab164900ee47bb6f3
X-WR-TIMEZONE:America/New_York
BEGIN:VTIMEZONE
TZID:America/New_York
BEGIN:STANDARD
TZNAME:EST
DTSTART:20231105T020000
TZOFFSETFROM:-0400
TZOFFSETTO:-0500
RDATE:20241103T020000
RDATE:20251102T020000
END:STANDARD
BEGIN:DAYLIGHT
TZNAME:EDT
DTSTART:20240310T020000
TZOFFSETFROM:-0500
TZOFFSETTO:-0400
RDATE:20250309T020000
RDATE:20260308T020000
END:DAYLIGHT
END:VTIMEZONE
BEGIN:VEVENT
UID:98ed65ca-9b00-4cf2-903f-4bd1ee8fad8c
DTSTAMP:20260421T190556Z
DESCRIPTION:
DTSTART;TZID=America/New_York:20241102T110000
DTEND;TZID=America/New_York:20241102T120000
LOCATION:https://us06web.zoom.us/j/87419534424
SUMMARY:MyLLife Scholars Quarterly Meet-Up
END:VEVENT
END:VCALENDAR
