BEGIN:VCALENDAR
VERSION:2.0
PRODID:-//myllife.org//NONSGML kigkonsult.se iCalcreator 2.30.10//
CALSCALE:GREGORIAN
METHOD:PUBLISH
UID:9610df73-1a86-4c21-918f-c0a58dce28cf
X-WR-CALDESC:Diwali is a festival of lights celebrated by Hindus\, SIkhs\, 
 and others. This holiday typically lasts five days and is observed during 
 the Hindu lunisolar month Kartika. Happy Diwali!
X-WR-RELCALID:309b44652973a262d2d0b18356d63b5e
X-WR-TIMEZONE:America/New_York
BEGIN:VTIMEZONE
TZID:America/New_York
BEGIN:STANDARD
TZNAME:EST
DTSTART:20231105T020000
TZOFFSETFROM:-0400
TZOFFSETTO:-0500
RDATE:20241103T020000
RDATE:20251102T020000
END:STANDARD
BEGIN:DAYLIGHT
TZNAME:EDT
DTSTART:20240310T020000
TZOFFSETFROM:-0500
TZOFFSETTO:-0400
RDATE:20250309T020000
RDATE:20260308T020000
END:DAYLIGHT
END:VTIMEZONE
BEGIN:VEVENT
UID:d998c8ef-429d-4f68-8eed-d6e5eebc6469
DTSTAMP:20260421T190413Z
DESCRIPTION:Diwali is a festival of lights celebrated by Hindus\, SIkhs\, a
 nd others. This holiday typically lasts five days and is observed during t
 he Hindu lunisolar month Kartika. Happy Diwali!
DTSTART;TZID=America/New_York:20241104T000000
DTEND;TZID=America/New_York:20241104T235900
LOCATION:
SUMMARY:Diwali
END:VEVENT
END:VCALENDAR
