BEGIN:VCALENDAR
VERSION:2.0
PRODID:-//myllife.org//NONSGML kigkonsult.se iCalcreator 2.30.10//
CALSCALE:GREGORIAN
METHOD:PUBLISH
UID:a30b1c0f-c527-4086-9a24-bad16c2a2127
X-WR-CALDESC:Thanksgiving is a national holiday celebrated on different day
 s in many countries. It is known as a time for family gathering\, grateful
 ness and most importantly: feasts. We wish you a happy and delectable Than
 ksgiving meal! Enjoy your time!
X-WR-RELCALID:6d3d846f11f4ed20358ad84377d7f935
X-WR-TIMEZONE:America/New_York
BEGIN:VTIMEZONE
TZID:America/New_York
BEGIN:STANDARD
TZNAME:EST
DTSTART:20241103T020000
TZOFFSETFROM:-0400
TZOFFSETTO:-0500
RDATE:20251102T020000
END:STANDARD
BEGIN:DAYLIGHT
TZNAME:EDT
DTSTART:20240310T020000
TZOFFSETFROM:-0500
TZOFFSETTO:-0400
RDATE:20250309T020000
RDATE:20260308T020000
END:DAYLIGHT
END:VTIMEZONE
BEGIN:VEVENT
UID:960e3ae2-fc95-430d-86d1-c0fb4861cad9
DTSTAMP:20260421T190249Z
DESCRIPTION:Thanksgiving is a national holiday celebrated on different days
  in many countries. It is known as a time for family gathering\, gratefuln
 ess and most importantly: feasts. We wish you a happy and delectable Thank
 sgiving meal! Enjoy your time!
DTSTART;TZID=America/New_York:20241125T000000
DTEND;TZID=America/New_York:20241125T235900
LOCATION:
SUMMARY:Thanksgiving
END:VEVENT
END:VCALENDAR
