BEGIN:VCALENDAR
VERSION:2.0
PRODID:-//myllife.org//NONSGML kigkonsult.se iCalcreator 2.30.10//
CALSCALE:GREGORIAN
METHOD:PUBLISH
UID:72502b27-f45b-4a7d-8caf-e5fd00c1bc3b
X-WR-CALDESC:Hannukah is a Jewish festival of lights that lasts roughly nin
 e days and has cultural\, religious\, and historical significance. It is a
 n important occasion for Jewish people and we wish all who celebrate a joy
 ful time!
X-WR-RELCALID:7f57b7e03b64ae5ec7e45b8ff2c81dda
X-WR-TIMEZONE:America/New_York
BEGIN:VTIMEZONE
TZID:America/New_York
BEGIN:STANDARD
TZNAME:EST
DTSTART:20241103T020000
TZOFFSETFROM:-0400
TZOFFSETTO:-0500
RDATE:20251102T020000
END:STANDARD
BEGIN:DAYLIGHT
TZNAME:EDT
DTSTART:20240310T020000
TZOFFSETFROM:-0500
TZOFFSETTO:-0400
RDATE:20250309T020000
RDATE:20260308T020000
END:DAYLIGHT
END:VTIMEZONE
BEGIN:VEVENT
UID:72dc62fd-b55a-498a-970a-a30cece493f9
DTSTAMP:20260421T185839Z
DESCRIPTION:Hannukah is a Jewish festival of lights that lasts roughly nine
  days and has cultural\, religious\, and historical significance. It is an
  important occasion for Jewish people and we wish all who celebrate a joyf
 ul time!
DTSTART;TZID=America/New_York:20241129T000000
DTEND;TZID=America/New_York:20241129T235900
LOCATION:
SUMMARY:Hannukah
END:VEVENT
END:VCALENDAR
