BEGIN:VCALENDAR
VERSION:2.0
PRODID:-//myllife.org//NONSGML kigkonsult.se iCalcreator 2.30.10//
CALSCALE:GREGORIAN
METHOD:PUBLISH
UID:23b3c2b3-d7b9-4b15-85e4-4c10c3583f97
X-WR-CALDESC:Christmas' Eve is observed on December 24th and is the evening
  before Christmas which is a holiday that celebrates the birth of Jesus. H
 appy Christmas' Eve to all and we wish you a very merry time!
X-WR-RELCALID:9ab91ea479a17ef79345dfa210a9426a
X-WR-TIMEZONE:America/New_York
BEGIN:VTIMEZONE
TZID:America/New_York
BEGIN:STANDARD
TZNAME:EST
DTSTART:20241103T020000
TZOFFSETFROM:-0400
TZOFFSETTO:-0500
RDATE:20251102T020000
END:STANDARD
BEGIN:DAYLIGHT
TZNAME:EDT
DTSTART:20240310T020000
TZOFFSETFROM:-0500
TZOFFSETTO:-0400
RDATE:20250309T020000
RDATE:20260308T020000
END:DAYLIGHT
END:VTIMEZONE
BEGIN:VEVENT
UID:b0552c3b-18d8-47b7-9f8b-e7dd41a3b0f8
DTSTAMP:20260421T164849Z
DESCRIPTION:Christmas' Eve is observed on December 24th and is the evening 
 before Christmas which is a holiday that celebrates the birth of Jesus. Ha
 ppy Christmas' Eve to all and we wish you a very merry time!
DTSTART;TZID=America/New_York:20241224T000000
DTEND;TZID=America/New_York:20241224T235900
LOCATION:
SUMMARY:Christmas' Eve
END:VEVENT
END:VCALENDAR
