BEGIN:VCALENDAR
VERSION:2.0
PRODID:-//myllife.org//NONSGML kigkonsult.se iCalcreator 2.30.10//
CALSCALE:GREGORIAN
METHOD:PUBLISH
UID:9faaf1fe-b987-43e5-b518-89ed4b1c31f5
X-WR-CALDESC:Christmas Day is observed globally on December 25th each year 
 by billions of people. It is widely celebrated by peoples of various relig
 ions but is considered to be a Christian holiday that celebrates the birth
  of Jesus. Merry Christmas to all!
X-WR-RELCALID:40feb1d23fa43d486bc915b3234aaa92
X-WR-TIMEZONE:America/New_York
BEGIN:VTIMEZONE
TZID:America/New_York
BEGIN:STANDARD
TZNAME:EST
DTSTART:20241103T020000
TZOFFSETFROM:-0400
TZOFFSETTO:-0500
RDATE:20251102T020000
END:STANDARD
BEGIN:DAYLIGHT
TZNAME:EDT
DTSTART:20240310T020000
TZOFFSETFROM:-0500
TZOFFSETTO:-0400
RDATE:20250309T020000
RDATE:20260308T020000
END:DAYLIGHT
END:VTIMEZONE
BEGIN:VEVENT
UID:b2283a93-56e9-4995-8390-b4d44f2826a5
DTSTAMP:20260421T165222Z
DESCRIPTION:Christmas Day is observed globally on December 25th each year b
 y billions of people. It is widely celebrated by peoples of various religi
 ons but is considered to be a Christian holiday that celebrates the birth 
 of Jesus. Merry Christmas to all!
DTSTART;TZID=America/New_York:20241225T000000
DTEND;TZID=America/New_York:20241225T235900
LOCATION:
SUMMARY:Christmas Day
END:VEVENT
END:VCALENDAR
