BEGIN:VCALENDAR
VERSION:2.0
PRODID:-//myllife.org//NONSGML kigkonsult.se iCalcreator 2.30.10//
CALSCALE:GREGORIAN
METHOD:PUBLISH
UID:d6aa5fa3-441d-42fd-9ff5-3a4c7d287cb0
X-WR-CALDESC:Kwanzaa is a holiday that is observed annually from December 2
 6 to January 1 and celebrated and commemorates African American culture. O
 n the sixth day of Kwanzaa\, a feast called Karamu is held. We wish all wh
 o celebrate a happy and joyous time! Happy Kwanzaa!
X-WR-RELCALID:1b8e4c1acdea4ed9d3580bf57dfb0e57
X-WR-TIMEZONE:America/New_York
BEGIN:VTIMEZONE
TZID:America/New_York
BEGIN:STANDARD
TZNAME:EST
DTSTART:20241103T020000
TZOFFSETFROM:-0400
TZOFFSETTO:-0500
RDATE:20251102T020000
END:STANDARD
BEGIN:DAYLIGHT
TZNAME:EDT
DTSTART:20240310T020000
TZOFFSETFROM:-0500
TZOFFSETTO:-0400
RDATE:20250309T020000
RDATE:20260308T020000
END:DAYLIGHT
END:VTIMEZONE
BEGIN:VEVENT
UID:6b2d9ccc-f234-407a-8c84-5055eb118529
DTSTAMP:20260421T164849Z
DESCRIPTION:Kwanzaa is a holiday that is observed annually from December 26
  to January 1 and celebrated and commemorates African American culture. On
  the sixth day of Kwanzaa\, a feast called Karamu is held. We wish all who
  celebrate a happy and joyous time! Happy Kwanzaa!
DTSTART;TZID=America/New_York:20241226T000000
DTEND;TZID=America/New_York:20241226T235900
LOCATION:
SUMMARY:Kwanzaa
END:VEVENT
END:VCALENDAR
