BEGIN:VCALENDAR
VERSION:2.0
PRODID:-//myllife.org//NONSGML kigkonsult.se iCalcreator 2.30.10//
CALSCALE:GREGORIAN
METHOD:PUBLISH
UID:a4245076-0bcf-4d79-a990-29cbc2d9bf12
X-WR-CALDESC:
X-WR-RELCALID:3d2e1b40b2ae565dba7403b87df6ca05
X-WR-TIMEZONE:America/New_York
BEGIN:VTIMEZONE
TZID:America/New_York
BEGIN:STANDARD
TZNAME:EST
DTSTART:20241103T020000
TZOFFSETFROM:-0400
TZOFFSETTO:-0500
RDATE:20251102T020000
END:STANDARD
BEGIN:DAYLIGHT
TZNAME:EDT
DTSTART:20240310T020000
TZOFFSETFROM:-0500
TZOFFSETTO:-0400
RDATE:20250309T020000
RDATE:20260308T020000
END:DAYLIGHT
END:VTIMEZONE
BEGIN:VEVENT
UID:9db1e4ad-ce32-4942-a2b3-5ac264269ecc
DTSTAMP:20260421T153345Z
DESCRIPTION:
DTSTART;TZID=America/New_York:20250111T110000
DTEND;TZID=America/New_York:20250111T120000
LOCATION:https://us06web.zoom.us/j/87026554263
SUMMARY:Session #6: Journey into the Qur'an (JIQ) - a Monthly Forum for You
 ng Professionals
END:VEVENT
END:VCALENDAR
