BEGIN:VCALENDAR
VERSION:2.0
PRODID:-//myllife.org//NONSGML kigkonsult.se iCalcreator 2.30.10//
CALSCALE:GREGORIAN
METHOD:PUBLISH
UID:f2e332a6-f4b2-4a35-809f-859316666ccb
X-WR-CALDESC:
X-WR-RELCALID:939cb3de56e6e84173f2ddba9fbcae7e
X-WR-TIMEZONE:America/New_York
BEGIN:VTIMEZONE
TZID:America/New_York
BEGIN:STANDARD
TZNAME:EST
DTSTART:20241103T020000
TZOFFSETFROM:-0400
TZOFFSETTO:-0500
RDATE:20251102T020000
END:STANDARD
BEGIN:DAYLIGHT
TZNAME:EDT
DTSTART:20240310T020000
TZOFFSETFROM:-0500
TZOFFSETTO:-0400
RDATE:20250309T020000
RDATE:20260308T020000
END:DAYLIGHT
END:VTIMEZONE
BEGIN:VEVENT
UID:126fed80-b8be-450c-bddf-5963048a5f12
DTSTAMP:20260421T133516Z
DESCRIPTION:
DTSTART;TZID=America/New_York:20250208T110000
DTEND;TZID=America/New_York:20250208T120000
LOCATION:https://us06web.zoom.us/j/82444238123
SUMMARY:Session #7: Journey into the Qur'an (JIQ) - a Monthly Forum for You
 ng Professionals
END:VEVENT
END:VCALENDAR
