BEGIN:VCALENDAR
VERSION:2.0
PRODID:-//myllife.org//NONSGML kigkonsult.se iCalcreator 2.30.10//
CALSCALE:GREGORIAN
METHOD:PUBLISH
UID:b3a1d93a-68e2-41ea-b8f4-e543dab88cb9
X-WR-CALDESC:
X-WR-RELCALID:7f61b6e3eda8756a437d9f281d7fc7e2
X-WR-TIMEZONE:America/New_York
BEGIN:VTIMEZONE
TZID:America/New_York
BEGIN:STANDARD
TZNAME:EST
DTSTART:20241103T020000
TZOFFSETFROM:-0400
TZOFFSETTO:-0500
RDATE:20251102T020000
END:STANDARD
BEGIN:DAYLIGHT
TZNAME:EDT
DTSTART:20240310T020000
TZOFFSETFROM:-0500
TZOFFSETTO:-0400
RDATE:20250309T020000
RDATE:20260308T020000
END:DAYLIGHT
END:VTIMEZONE
BEGIN:VEVENT
UID:902f9f10-8043-41c8-9a9d-c72430b29fd5
DTSTAMP:20260421T131911Z
DESCRIPTION:
DTSTART;TZID=America/New_York:20250228T170000
DTEND;TZID=America/New_York:20250228T180000
LOCATION:https://us06web.zoom.us/j/85334170095
SUMMARY:Nightly Ramadan Readings with MyLLife
END:VEVENT
END:VCALENDAR
