BEGIN:VCALENDAR
VERSION:2.0
PRODID:-//myllife.org//NONSGML kigkonsult.se iCalcreator 2.30.10//
CALSCALE:GREGORIAN
METHOD:PUBLISH
UID:fa23219f-6f22-45a8-a2d5-bd7321736bfc
X-WR-CALDESC:
X-WR-RELCALID:2a4b217d0da1556d0cd86ae82c85c855
X-WR-TIMEZONE:America/New_York
BEGIN:VTIMEZONE
TZID:America/New_York
BEGIN:STANDARD
TZNAME:EST
DTSTART:20241103T020000
TZOFFSETFROM:-0400
TZOFFSETTO:-0500
RDATE:20251102T020000
END:STANDARD
BEGIN:DAYLIGHT
TZNAME:EDT
DTSTART:20240310T020000
TZOFFSETFROM:-0500
TZOFFSETTO:-0400
RDATE:20250309T020000
RDATE:20260308T020000
END:DAYLIGHT
END:VTIMEZONE
BEGIN:VEVENT
UID:78688a56-7d47-4f37-9474-72d8374bba8a
DTSTAMP:20260421T114256Z
DESCRIPTION:
DTSTART;TZID=America/New_York:20250307T170000
DTEND;TZID=America/New_York:20250307T180000
LOCATION:https://us06web.zoom.us/j/85334170095
SUMMARY:Nightly Ramadan Readings with MyLLife
END:VEVENT
END:VCALENDAR
