BEGIN:VCALENDAR
VERSION:2.0
PRODID:-//myllife.org//NONSGML kigkonsult.se iCalcreator 2.30.10//
CALSCALE:GREGORIAN
METHOD:PUBLISH
UID:f15ec73d-8a07-4a16-b1f5-f0940361ed8d
X-WR-CALDESC:
X-WR-RELCALID:202d2965e51aaa7d70a16fdc21ccbeee
X-WR-TIMEZONE:America/New_York
BEGIN:VTIMEZONE
TZID:America/New_York
BEGIN:STANDARD
TZNAME:EST
DTSTART:20241103T020000
TZOFFSETFROM:-0400
TZOFFSETTO:-0500
RDATE:20251102T020000
END:STANDARD
BEGIN:DAYLIGHT
TZNAME:EDT
DTSTART:20240310T020000
TZOFFSETFROM:-0500
TZOFFSETTO:-0400
RDATE:20250309T020000
RDATE:20260308T020000
END:DAYLIGHT
END:VTIMEZONE
BEGIN:VEVENT
UID:92f924ea-d7e6-435f-be6b-66e62d4b85ff
DTSTAMP:20260421T133857Z
DESCRIPTION:
DTSTART;TZID=America/New_York:20250308T110000
DTEND;TZID=America/New_York:20250308T120000
LOCATION:https://us06web.zoom.us/j/85014239089
SUMMARY:Session #8: Journey into the Qur'an (JIQ) - a Monthly Forum for You
 ng Professionals
END:VEVENT
END:VCALENDAR
