BEGIN:VCALENDAR
VERSION:2.0
PRODID:-//myllife.org//NONSGML kigkonsult.se iCalcreator 2.30.10//
CALSCALE:GREGORIAN
METHOD:PUBLISH
UID:3bf8840b-c869-41e7-b2c2-8be34f6dff70
X-WR-CALDESC:
X-WR-RELCALID:64f258733be38f00c787f1309bce3a80
X-WR-TIMEZONE:America/New_York
BEGIN:VTIMEZONE
TZID:America/New_York
BEGIN:STANDARD
TZNAME:EST
DTSTART:20241103T020000
TZOFFSETFROM:-0400
TZOFFSETTO:-0500
RDATE:20251102T020000
END:STANDARD
BEGIN:DAYLIGHT
TZNAME:EDT
DTSTART:20250309T020000
TZOFFSETFROM:-0500
TZOFFSETTO:-0400
RDATE:20260308T020000
END:DAYLIGHT
END:VTIMEZONE
BEGIN:VEVENT
UID:fab72291-0616-467e-a8e9-05318f249942
DTSTAMP:20260421T132820Z
DESCRIPTION:
DTSTART;TZID=America/New_York:20250323T180000
DTEND;TZID=America/New_York:20250323T190000
LOCATION:https://us06web.zoom.us/j/85334170095
SUMMARY:Nightly Ramadan Readings with MyLLife
END:VEVENT
END:VCALENDAR
