BEGIN:VCALENDAR
VERSION:2.0
PRODID:-//myllife.org//NONSGML kigkonsult.se iCalcreator 2.30.10//
CALSCALE:GREGORIAN
METHOD:PUBLISH
UID:80cc5ce6-9901-40d5-9098-1050980149ca
X-WR-CALDESC:
X-WR-RELCALID:446c4d3bbc04906b522d2efb1a8f1a70
X-WR-TIMEZONE:America/New_York
BEGIN:VTIMEZONE
TZID:America/New_York
BEGIN:STANDARD
TZNAME:EST
DTSTART:20241103T020000
TZOFFSETFROM:-0400
TZOFFSETTO:-0500
RDATE:20251102T020000
END:STANDARD
BEGIN:DAYLIGHT
TZNAME:EDT
DTSTART:20250309T020000
TZOFFSETFROM:-0500
TZOFFSETTO:-0400
RDATE:20260308T020000
END:DAYLIGHT
END:VTIMEZONE
BEGIN:VEVENT
UID:c2adafa0-b52a-41db-91bc-9817ffc095ff
DTSTAMP:20260421T133519Z
DESCRIPTION:
DTSTART;TZID=America/New_York:20250328T180000
DTEND;TZID=America/New_York:20250328T190000
LOCATION:https://us06web.zoom.us/j/85334170095
SUMMARY:Nightly Ramadan Readings with MyLLife
END:VEVENT
END:VCALENDAR
