BEGIN:VCALENDAR
VERSION:2.0
PRODID:-//myllife.org//NONSGML kigkonsult.se iCalcreator 2.30.10//
CALSCALE:GREGORIAN
METHOD:PUBLISH
UID:087de8ef-ef79-4025-a736-6daddd13f26e
X-WR-CALDESC:
X-WR-RELCALID:8ad75fd99b8de6e63135413b06846b13
X-WR-TIMEZONE:America/New_York
BEGIN:VTIMEZONE
TZID:America/New_York
BEGIN:STANDARD
TZNAME:EST
DTSTART:20241103T020000
TZOFFSETFROM:-0400
TZOFFSETTO:-0500
RDATE:20251102T020000
END:STANDARD
BEGIN:DAYLIGHT
TZNAME:EDT
DTSTART:20250309T020000
TZOFFSETFROM:-0500
TZOFFSETTO:-0400
RDATE:20260308T020000
END:DAYLIGHT
END:VTIMEZONE
BEGIN:VEVENT
UID:344c2f8a-ad29-4fb7-897f-d946728c31db
DTSTAMP:20260421T133709Z
DESCRIPTION:
DTSTART;TZID=America/New_York:20250329T180000
DTEND;TZID=America/New_York:20250329T190000
LOCATION:https://us06web.zoom.us/j/85334170095
SUMMARY:Nightly Ramadan Readings with MyLLife
END:VEVENT
END:VCALENDAR
