BEGIN:VCALENDAR
VERSION:2.0
PRODID:-//myllife.org//NONSGML kigkonsult.se iCalcreator 2.30.10//
CALSCALE:GREGORIAN
METHOD:PUBLISH
UID:d8713f1d-8808-4d0b-88f8-1ee20b352f0f
X-WR-CALDESC:Mother's Day is a celebration to honor the mother of the famil
 y. Happy Mother's Day!
X-WR-RELCALID:83a9a5450b4d3c2d8ddbb44fdfee072a
X-WR-TIMEZONE:America/New_York
BEGIN:VTIMEZONE
TZID:America/New_York
BEGIN:STANDARD
TZNAME:EST
DTSTART:20241103T020000
TZOFFSETFROM:-0400
TZOFFSETTO:-0500
RDATE:20251102T020000
RDATE:20261101T020000
END:STANDARD
BEGIN:DAYLIGHT
TZNAME:EDT
DTSTART:20250309T020000
TZOFFSETFROM:-0500
TZOFFSETTO:-0400
RDATE:20260308T020000
END:DAYLIGHT
END:VTIMEZONE
BEGIN:VEVENT
UID:c31c2f1d-5412-469b-90ba-f18311d62cf1
DTSTAMP:20260423T224958Z
DESCRIPTION:Mother's Day is a celebration to honor the mother of the family
 . Happy Mother's Day!
DTSTART;TZID=America/New_York:20250514T000000
DTEND;TZID=America/New_York:20250514T235900
LOCATION:
SUMMARY:Mother's Day
END:VEVENT
END:VCALENDAR
