BEGIN:VCALENDAR
VERSION:2.0
PRODID:-//myllife.org//NONSGML kigkonsult.se iCalcreator 2.30.10//
CALSCALE:GREGORIAN
METHOD:PUBLISH
UID:d9183b9d-2732-4205-ad2d-3f918f92cf13
X-WR-CALDESC:
X-WR-RELCALID:62f5f2f855bad3f0663053cd408ba6aa
X-WR-TIMEZONE:America/New_York
BEGIN:VTIMEZONE
TZID:America/New_York
BEGIN:STANDARD
TZNAME:EST
DTSTART:20241103T020000
TZOFFSETFROM:-0400
TZOFFSETTO:-0500
RDATE:20251102T020000
RDATE:20261101T020000
END:STANDARD
BEGIN:DAYLIGHT
TZNAME:EDT
DTSTART:20250309T020000
TZOFFSETFROM:-0500
TZOFFSETTO:-0400
RDATE:20260308T020000
END:DAYLIGHT
END:VTIMEZONE
BEGIN:VEVENT
UID:47cb2c88-aa23-443b-b205-64cdf6e2231a
DTSTAMP:20260421T104440Z
DESCRIPTION:
DTSTART;TZID=America/New_York:20250517T110000
DTEND;TZID=America/New_York:20250517T123000
LOCATION:https://us06web.zoom.us/j/85014239089
SUMMARY:Session #9: Journey into the Qur'an (JIQ) - a Monthly Forum for You
 ng Professionals
END:VEVENT
END:VCALENDAR
