BEGIN:VCALENDAR
VERSION:2.0
PRODID:-//myllife.org//NONSGML kigkonsult.se iCalcreator 2.30.10//
CALSCALE:GREGORIAN
METHOD:PUBLISH
UID:76824839-ab9a-4d99-b64c-cef656c54691
X-WR-CALDESC:Father's day is a holiday celebrated around the world. It is i
 mportant to appreciate and recognize our fathers and acknowledge the work 
 and effort they have put in. Please take the time to show appreciation for
  your fathers. We wish you a pleasant and joyful Father's Day!
X-WR-RELCALID:42065bccf6ba8a0e14fd3b2a2d4242c7
X-WR-TIMEZONE:America/New_York
BEGIN:VTIMEZONE
TZID:America/New_York
BEGIN:STANDARD
TZNAME:EST
DTSTART:20241103T020000
TZOFFSETFROM:-0400
TZOFFSETTO:-0500
RDATE:20251102T020000
RDATE:20261101T020000
END:STANDARD
BEGIN:DAYLIGHT
TZNAME:EDT
DTSTART:20250309T020000
TZOFFSETFROM:-0500
TZOFFSETTO:-0400
RDATE:20260308T020000
END:DAYLIGHT
END:VTIMEZONE
BEGIN:VEVENT
UID:98b9e0ea-cf4f-46b0-b57b-3b3e28f219fe
DTSTAMP:20260419T141136Z
DESCRIPTION:Father's day is a holiday celebrated around the world. It is im
 portant to appreciate and recognize our fathers and acknowledge the work a
 nd effort they have put in. Please take the time to show appreciation for 
 your fathers. We wish you a pleasant and joyful Father's Day!
DTSTART;TZID=America/New_York:20250620T000000
DTEND;TZID=America/New_York:20250620T235900
LOCATION:
SUMMARY:Father's Day
END:VEVENT
END:VCALENDAR
