BEGIN:VCALENDAR
VERSION:2.0
PRODID:-//myllife.org//NONSGML kigkonsult.se iCalcreator 2.30.10//
CALSCALE:GREGORIAN
METHOD:PUBLISH
UID:7f1aabe9-7b62-4148-b0db-6d119fc98c7a
X-WR-CALDESC:Young Professionals Monthly Discussion Group: Session #10
X-WR-RELCALID:0bf04e45f9f1a6ee2f772b707f7e5eb7
X-WR-TIMEZONE:America/New_York
BEGIN:VTIMEZONE
TZID:America/New_York
BEGIN:STANDARD
TZNAME:EST
DTSTART:20241103T020000
TZOFFSETFROM:-0400
TZOFFSETTO:-0500
RDATE:20251102T020000
RDATE:20261101T020000
END:STANDARD
BEGIN:DAYLIGHT
TZNAME:EDT
DTSTART:20250309T020000
TZOFFSETFROM:-0500
TZOFFSETTO:-0400
RDATE:20260308T020000
END:DAYLIGHT
END:VTIMEZONE
BEGIN:VEVENT
UID:392e1103-fd95-45b4-9ead-f202184713f1
DTSTAMP:20260421T090157Z
DESCRIPTION:Young Professionals Monthly Discussion Group: Session #10
DTSTART;TZID=America/New_York:20250621T110000
DTEND;TZID=America/New_York:20250621T120000
LOCATION:https://us06web.zoom.us/j/89413174994?pwd=B5Iq10YZeNhuaLiYrMuQSJog
 kPPpIU.1
SUMMARY:Young Professionals Monthly Discussion Group: Session #10
END:VEVENT
END:VCALENDAR
