BEGIN:VCALENDAR
VERSION:2.0
PRODID:-//myllife.org//NONSGML kigkonsult.se iCalcreator 2.30.10//
CALSCALE:GREGORIAN
METHOD:PUBLISH
UID:66e971fd-ad37-4d41-80f6-3921f5d0376f
X-WR-CALDESC:
X-WR-RELCALID:a115392d25eac3844a9320c05bf97b33
X-WR-TIMEZONE:America/New_York
BEGIN:VTIMEZONE
TZID:America/New_York
BEGIN:STANDARD
TZNAME:EST
DTSTART:20241103T020000
TZOFFSETFROM:-0400
TZOFFSETTO:-0500
RDATE:20251102T020000
RDATE:20261101T020000
END:STANDARD
BEGIN:DAYLIGHT
TZNAME:EDT
DTSTART:20250309T020000
TZOFFSETFROM:-0500
TZOFFSETTO:-0400
RDATE:20260308T020000
END:DAYLIGHT
END:VTIMEZONE
BEGIN:VEVENT
UID:b24ec311-0cd7-4d65-83eb-105efca419c2
DTSTAMP:20260421T104559Z
DESCRIPTION:
DTSTART;TZID=America/New_York:20250622T170000
DTEND;TZID=America/New_York:20250622T180000
LOCATION:https://us06web.zoom.us/j/86793545760?pwd=nfJYhXdgC6VpYwUvhFVUB9bQ
 9iuEFg.1
SUMMARY:MyLLife Scholars Kick-off Meeting: Summer 2025
END:VEVENT
END:VCALENDAR
