BEGIN:VCALENDAR
VERSION:2.0
PRODID:-//myllife.org//NONSGML kigkonsult.se iCalcreator 2.30.10//
CALSCALE:GREGORIAN
METHOD:PUBLISH
UID:8d5f6cf1-5010-4db9-9747-70a93472a469
X-WR-CALDESC:
X-WR-RELCALID:6d2305613bb63a3c4f76d91b21ed6217
X-WR-TIMEZONE:America/New_York
BEGIN:VTIMEZONE
TZID:America/New_York
BEGIN:STANDARD
TZNAME:EST
DTSTART:20241103T020000
TZOFFSETFROM:-0400
TZOFFSETTO:-0500
RDATE:20251102T020000
RDATE:20261101T020000
END:STANDARD
BEGIN:DAYLIGHT
TZNAME:EDT
DTSTART:20250309T020000
TZOFFSETFROM:-0500
TZOFFSETTO:-0400
RDATE:20260308T020000
END:DAYLIGHT
END:VTIMEZONE
BEGIN:VEVENT
UID:4e40bd5c-1183-4cf4-b279-2254528507e0
DTSTAMP:20260421T085200Z
DESCRIPTION:
DTSTART;TZID=America/New_York:20250718T180000
DTEND;TZID=America/New_York:20250718T190000
LOCATION:https://us06web.zoom.us/j/87152571715
SUMMARY:MyLLife Scholars 2025 Cohort: Mid-Summer Progress Meeting
END:VEVENT
END:VCALENDAR
