BEGIN:VCALENDAR
VERSION:2.0
PRODID:-//myllife.org//NONSGML kigkonsult.se iCalcreator 2.30.10//
CALSCALE:GREGORIAN
METHOD:PUBLISH
UID:d1682fe9-8df3-4680-8ec5-6d8a5bb8ab36
X-WR-CALDESC:
X-WR-RELCALID:3e71010c9b65214594fabe99c0c73dbe
X-WR-TIMEZONE:America/New_York
BEGIN:VTIMEZONE
TZID:America/New_York
BEGIN:STANDARD
TZNAME:EST
DTSTART:20241103T020000
TZOFFSETFROM:-0400
TZOFFSETTO:-0500
RDATE:20251102T020000
RDATE:20261101T020000
END:STANDARD
BEGIN:DAYLIGHT
TZNAME:EDT
DTSTART:20250309T020000
TZOFFSETFROM:-0500
TZOFFSETTO:-0400
RDATE:20260308T020000
END:DAYLIGHT
END:VTIMEZONE
BEGIN:VEVENT
UID:af671e75-5608-4a2c-b09a-9fa4dbc2c49e
DTSTAMP:20260421T085125Z
DESCRIPTION:
DTSTART;TZID=America/New_York:20250719T110000
DTEND;TZID=America/New_York:20250719T120000
LOCATION:https://us06web.zoom.us/j/85168693761
SUMMARY:Youth Discussion Forum: Journey Into the Qur'an Session #11
END:VEVENT
END:VCALENDAR
