BEGIN:VCALENDAR
VERSION:2.0
PRODID:-//myllife.org//NONSGML kigkonsult.se iCalcreator 2.30.10//
CALSCALE:GREGORIAN
METHOD:PUBLISH
UID:69a3b131-2ea2-4c23-8b9d-e90a1152b7e8
X-WR-CALDESC:
X-WR-RELCALID:b11369e4c0d10ace4635ad73d5d4e2d9
X-WR-TIMEZONE:America/New_York
BEGIN:VTIMEZONE
TZID:America/New_York
BEGIN:STANDARD
TZNAME:EST
DTSTART:20241103T020000
TZOFFSETFROM:-0400
TZOFFSETTO:-0500
RDATE:20251102T020000
RDATE:20261101T020000
END:STANDARD
BEGIN:DAYLIGHT
TZNAME:EDT
DTSTART:20250309T020000
TZOFFSETFROM:-0500
TZOFFSETTO:-0400
RDATE:20260308T020000
END:DAYLIGHT
END:VTIMEZONE
BEGIN:VEVENT
UID:6630e048-935e-4733-b1ea-211597253b1c
DTSTAMP:20260423T191918Z
DESCRIPTION:
DTSTART;TZID=America/New_York:20250728T130000
DTEND;TZID=America/New_York:20250728T140000
LOCATION:https://us06web.zoom.us/j/88382595073
SUMMARY:MyLLife ESJP Weekly Status Meeting
END:VEVENT
END:VCALENDAR
