BEGIN:VCALENDAR
VERSION:2.0
PRODID:-//myllife.org//NONSGML kigkonsult.se iCalcreator 2.30.10//
CALSCALE:GREGORIAN
METHOD:PUBLISH
UID:f616d0c8-25fc-420c-9d83-01ac718928ea
X-WR-CALDESC:
X-WR-RELCALID:983b7b4e3a12ea0e9214beaf2565a7e2
X-WR-TIMEZONE:America/New_York
BEGIN:VTIMEZONE
TZID:America/New_York
BEGIN:STANDARD
TZNAME:EST
DTSTART:20241103T020000
TZOFFSETFROM:-0400
TZOFFSETTO:-0500
RDATE:20251102T020000
RDATE:20261101T020000
END:STANDARD
BEGIN:DAYLIGHT
TZNAME:EDT
DTSTART:20250309T020000
TZOFFSETFROM:-0500
TZOFFSETTO:-0400
RDATE:20260308T020000
END:DAYLIGHT
END:VTIMEZONE
BEGIN:VEVENT
UID:daa71759-df36-4a7a-baeb-06c5fb9c5359
DTSTAMP:20260421T090101Z
DESCRIPTION:
DTSTART;TZID=America/New_York:20250815T180000
DTEND;TZID=America/New_York:20250815T190000
LOCATION:https://us06web.zoom.us/j/84769471471
SUMMARY:MyLLife Scholars 2025 Cohort: End-of-Summer Meeting
END:VEVENT
END:VCALENDAR
