BEGIN:VCALENDAR
VERSION:2.0
PRODID:-//myllife.org//NONSGML kigkonsult.se iCalcreator 2.30.10//
CALSCALE:GREGORIAN
METHOD:PUBLISH
UID:d2a47507-c8b5-45cd-9f6b-543b3f09a1e6
X-WR-CALDESC:
X-WR-RELCALID:7f29c222259a27d7960f5d78d292f883
X-WR-TIMEZONE:America/New_York
BEGIN:VTIMEZONE
TZID:America/New_York
BEGIN:STANDARD
TZNAME:EST
DTSTART:20241103T020000
TZOFFSETFROM:-0400
TZOFFSETTO:-0500
RDATE:20251102T020000
RDATE:20261101T020000
END:STANDARD
BEGIN:DAYLIGHT
TZNAME:EDT
DTSTART:20250309T020000
TZOFFSETFROM:-0500
TZOFFSETTO:-0400
RDATE:20260308T020000
END:DAYLIGHT
END:VTIMEZONE
BEGIN:VEVENT
UID:763a4469-271a-4f94-9f27-1c8c23da0728
DTSTAMP:20260421T085338Z
DESCRIPTION:
DTSTART;TZID=America/New_York:20250823T110000
DTEND;TZID=America/New_York:20250823T120000
LOCATION:https://us06web.zoom.us/j/86371349714
SUMMARY:Youth Discussion Forum: Journey Into the Qur'an Session #12
END:VEVENT
END:VCALENDAR
