BEGIN:VCALENDAR
VERSION:2.0
PRODID:-//myllife.org//NONSGML kigkonsult.se iCalcreator 2.30.10//
CALSCALE:GREGORIAN
METHOD:PUBLISH
UID:5cc952fb-e109-4dcf-a8d2-7f6d608a9fc4
X-WR-CALDESC:
X-WR-RELCALID:5712fea6659c6bdf60d412875c40d8c1
X-WR-TIMEZONE:America/New_York
BEGIN:VTIMEZONE
TZID:America/New_York
BEGIN:STANDARD
TZNAME:EST
DTSTART:20241103T020000
TZOFFSETFROM:-0400
TZOFFSETTO:-0500
RDATE:20251102T020000
RDATE:20261101T020000
END:STANDARD
BEGIN:DAYLIGHT
TZNAME:EDT
DTSTART:20250309T020000
TZOFFSETFROM:-0500
TZOFFSETTO:-0400
RDATE:20260308T020000
RDATE:20270314T020000
END:DAYLIGHT
END:VTIMEZONE
BEGIN:VEVENT
UID:ccb7f2cd-93df-47f4-a883-4327ea45a8b0
DTSTAMP:20260423T155900Z
DESCRIPTION:
DTSTART;TZID=America/New_York:20250922T130000
DTEND;TZID=America/New_York:20250922T140000
LOCATION:https://us06web.zoom.us/j/88382595073
SUMMARY:MyLLife ESJP Weekly Status Meeting
END:VEVENT
END:VCALENDAR
