BEGIN:VCALENDAR
VERSION:2.0
PRODID:-//myllife.org//NONSGML kigkonsult.se iCalcreator 2.30.10//
CALSCALE:GREGORIAN
METHOD:PUBLISH
UID:b72713ee-94df-4d59-a698-63b1e5f2e6b8
X-WR-CALDESC:
X-WR-RELCALID:b1491c705a7fdd525e0f055ec3c2acf9
X-WR-TIMEZONE:America/New_York
BEGIN:VTIMEZONE
TZID:America/New_York
BEGIN:STANDARD
TZNAME:EST
DTSTART:20241103T020000
TZOFFSETFROM:-0400
TZOFFSETTO:-0500
RDATE:20251102T020000
RDATE:20261101T020000
END:STANDARD
BEGIN:DAYLIGHT
TZNAME:EDT
DTSTART:20250309T020000
TZOFFSETFROM:-0500
TZOFFSETTO:-0400
RDATE:20260308T020000
RDATE:20270314T020000
END:DAYLIGHT
END:VTIMEZONE
BEGIN:VEVENT
UID:4f18f7d9-aa8a-4528-88b5-a6aeb0f50355
DTSTAMP:20260423T155416Z
DESCRIPTION:
DTSTART;TZID=America/New_York:20250929T130000
DTEND;TZID=America/New_York:20250929T140000
LOCATION:https://us06web.zoom.us/j/88382595073
SUMMARY:MyLLife ESJP Weekly Status Meeting
END:VEVENT
END:VCALENDAR
