BEGIN:VCALENDAR
VERSION:2.0
PRODID:-//myllife.org//NONSGML kigkonsult.se iCalcreator 2.30.10//
CALSCALE:GREGORIAN
METHOD:PUBLISH
UID:a6687006-8f52-4414-b139-fb114cf9baa8
X-WR-CALDESC:Diwali is a festival of lights celebrated by Hindus\, SIkhs\, 
 and others. This holiday typically lasts five days and is observed during 
 the Hindu lunisolar month Kartika. Happy Diwali!
X-WR-RELCALID:7537fc70b1442e1c0997f7f0245c4a7b
X-WR-TIMEZONE:America/New_York
BEGIN:VTIMEZONE
TZID:America/New_York
BEGIN:STANDARD
TZNAME:EST
DTSTART:20251102T020000
TZOFFSETFROM:-0400
TZOFFSETTO:-0500
RDATE:20261101T020000
END:STANDARD
BEGIN:DAYLIGHT
TZNAME:EDT
DTSTART:20250309T020000
TZOFFSETFROM:-0500
TZOFFSETTO:-0400
RDATE:20260308T020000
RDATE:20270314T020000
END:DAYLIGHT
END:VTIMEZONE
BEGIN:VEVENT
UID:9908021a-8a42-432c-aeae-b3c9850a0668
DTSTAMP:20260419T160255Z
DESCRIPTION:Diwali is a festival of lights celebrated by Hindus\, SIkhs\, a
 nd others. This holiday typically lasts five days and is observed during t
 he Hindu lunisolar month Kartika. Happy Diwali!
DTSTART;TZID=America/New_York:20251104T000000
DTEND;TZID=America/New_York:20251104T235900
LOCATION:
SUMMARY:Diwali
END:VEVENT
END:VCALENDAR
