BEGIN:VCALENDAR
VERSION:2.0
PRODID:-//myllife.org//NONSGML kigkonsult.se iCalcreator 2.30.10//
CALSCALE:GREGORIAN
METHOD:PUBLISH
UID:2290612b-8304-45d0-9f85-428fcccf4b1f
X-WR-CALDESC:Remember that every vote makes a difference!
X-WR-RELCALID:357142c5b595a7bd1f185d1775eda167
X-WR-TIMEZONE:America/New_York
BEGIN:VTIMEZONE
TZID:America/New_York
BEGIN:STANDARD
TZNAME:EST
DTSTART:20251102T020000
TZOFFSETFROM:-0400
TZOFFSETTO:-0500
RDATE:20261101T020000
END:STANDARD
BEGIN:DAYLIGHT
TZNAME:EDT
DTSTART:20250309T020000
TZOFFSETFROM:-0500
TZOFFSETTO:-0400
RDATE:20260308T020000
RDATE:20270314T020000
END:DAYLIGHT
END:VTIMEZONE
BEGIN:VEVENT
UID:fa8cbd5a-519a-4c99-ba70-22169b9ed584
DTSTAMP:20260423T121646Z
DESCRIPTION:Remember that every vote makes a difference!
DTSTART;TZID=America/New_York:20251108T000000
DTEND;TZID=America/New_York:20251108T235900
LOCATION:
SUMMARY:Election Day
END:VEVENT
END:VCALENDAR
