BEGIN:VCALENDAR
VERSION:2.0
PRODID:-//myllife.org//NONSGML kigkonsult.se iCalcreator 2.30.10//
CALSCALE:GREGORIAN
METHOD:PUBLISH
UID:59b809af-6073-469f-aaa7-e21a4a1cfe1b
X-WR-CALDESC:Thanksgiving is a national holiday celebrated on different day
 s in many countries. It is known as a time for family gathering\, grateful
 ness and most importantly: feasts. We wish you a happy and delectable Than
 ksgiving meal! Enjoy your time!
X-WR-RELCALID:d7173db6862592b776ebca58553c7a7d
X-WR-TIMEZONE:America/New_York
BEGIN:VTIMEZONE
TZID:America/New_York
BEGIN:STANDARD
TZNAME:EST
DTSTART:20251102T020000
TZOFFSETFROM:-0400
TZOFFSETTO:-0500
RDATE:20261101T020000
END:STANDARD
BEGIN:DAYLIGHT
TZNAME:EDT
DTSTART:20250309T020000
TZOFFSETFROM:-0500
TZOFFSETTO:-0400
RDATE:20260308T020000
RDATE:20270314T020000
END:DAYLIGHT
END:VTIMEZONE
BEGIN:VEVENT
UID:9e502b26-a8d0-46a7-8ae3-c57693a97e32
DTSTAMP:20260419T160014Z
DESCRIPTION:Thanksgiving is a national holiday celebrated on different days
  in many countries. It is known as a time for family gathering\, gratefuln
 ess and most importantly: feasts. We wish you a happy and delectable Thank
 sgiving meal! Enjoy your time!
DTSTART;TZID=America/New_York:20251125T000000
DTEND;TZID=America/New_York:20251125T235900
LOCATION:
SUMMARY:Thanksgiving
END:VEVENT
END:VCALENDAR
