BEGIN:VCALENDAR
VERSION:2.0
PRODID:-//myllife.org//NONSGML kigkonsult.se iCalcreator 2.30.10//
CALSCALE:GREGORIAN
METHOD:PUBLISH
UID:57dc073d-d498-4bcc-902a-99ebf58d19ae
X-WR-CALDESC:Hannukah is a Jewish festival of lights that lasts roughly nin
 e days and has cultural\, religious\, and historical significance. It is a
 n important occasion for Jewish people and we wish all who celebrate a joy
 ful time!
X-WR-RELCALID:6aa7215bc33cc248edfb371172b66d29
X-WR-TIMEZONE:America/New_York
BEGIN:VTIMEZONE
TZID:America/New_York
BEGIN:STANDARD
TZNAME:EST
DTSTART:20251102T020000
TZOFFSETFROM:-0400
TZOFFSETTO:-0500
RDATE:20261101T020000
END:STANDARD
BEGIN:DAYLIGHT
TZNAME:EDT
DTSTART:20250309T020000
TZOFFSETFROM:-0500
TZOFFSETTO:-0400
RDATE:20260308T020000
RDATE:20270314T020000
END:DAYLIGHT
END:VTIMEZONE
BEGIN:VEVENT
UID:228a35a5-efad-408f-a444-d1e4005bf043
DTSTAMP:20260419T160326Z
DESCRIPTION:Hannukah is a Jewish festival of lights that lasts roughly nine
  days and has cultural\, religious\, and historical significance. It is an
  important occasion for Jewish people and we wish all who celebrate a joyf
 ul time!
DTSTART;TZID=America/New_York:20251129T000000
DTEND;TZID=America/New_York:20251129T235900
LOCATION:
SUMMARY:Hannukah
END:VEVENT
END:VCALENDAR
