BEGIN:VCALENDAR
VERSION:2.0
PRODID:-//myllife.org//NONSGML kigkonsult.se iCalcreator 2.30.10//
CALSCALE:GREGORIAN
METHOD:PUBLISH
UID:94b8475f-b799-4dd5-81ed-a2155bde6c5a
X-WR-CALDESC:Christmas' Eve is observed on December 24th and is the evening
  before Christmas which is a holiday that celebrates the birth of Jesus. H
 appy Christmas' Eve to all and we wish you a very merry time!
X-WR-RELCALID:567bd5ef2b277600f99f3cc8f4540f4d
X-WR-TIMEZONE:America/New_York
BEGIN:VTIMEZONE
TZID:America/New_York
BEGIN:STANDARD
TZNAME:EST
DTSTART:20251102T020000
TZOFFSETFROM:-0400
TZOFFSETTO:-0500
RDATE:20261101T020000
END:STANDARD
BEGIN:DAYLIGHT
TZNAME:EDT
DTSTART:20250309T020000
TZOFFSETFROM:-0500
TZOFFSETTO:-0400
RDATE:20260308T020000
RDATE:20270314T020000
END:DAYLIGHT
END:VTIMEZONE
BEGIN:VEVENT
UID:6ced7488-4a8f-4a80-97e8-3de50d6c5f37
DTSTAMP:20260423T105145Z
DESCRIPTION:Christmas' Eve is observed on December 24th and is the evening 
 before Christmas which is a holiday that celebrates the birth of Jesus. Ha
 ppy Christmas' Eve to all and we wish you a very merry time!
DTSTART;TZID=America/New_York:20251224T000000
DTEND;TZID=America/New_York:20251224T235900
LOCATION:
SUMMARY:Christmas' Eve
END:VEVENT
END:VCALENDAR
