BEGIN:VCALENDAR
VERSION:2.0
PRODID:-//myllife.org//NONSGML kigkonsult.se iCalcreator 2.30.10//
CALSCALE:GREGORIAN
METHOD:PUBLISH
UID:545b873f-c3b9-4ec3-8c5b-1a92559e0895
X-WR-CALDESC:New Year's Eve is observed annually by billions on December 31
 st. It is the last day of the year and the day prior to the New Year where
  at midnight celebrations and events are held in celebration of the coming
  year. Happy New Year's Eve and New Year's Day to all!
X-WR-RELCALID:beb6f36d879a43a291ffa1339794a0bf
X-WR-TIMEZONE:America/New_York
BEGIN:VTIMEZONE
TZID:America/New_York
BEGIN:STANDARD
TZNAME:EST
DTSTART:20251102T020000
TZOFFSETFROM:-0400
TZOFFSETTO:-0500
RDATE:20261101T020000
END:STANDARD
BEGIN:DAYLIGHT
TZNAME:EDT
DTSTART:20250309T020000
TZOFFSETFROM:-0500
TZOFFSETTO:-0400
RDATE:20260308T020000
RDATE:20270314T020000
END:DAYLIGHT
END:VTIMEZONE
BEGIN:VEVENT
UID:81f999c7-f2be-4fdf-b3c3-296ea50c3c59
DTSTAMP:20260423T105647Z
DESCRIPTION:New Year's Eve is observed annually by billions on December 31s
 t. It is the last day of the year and the day prior to the New Year where 
 at midnight celebrations and events are held in celebration of the coming 
 year. Happy New Year's Eve and New Year's Day to all!
DTSTART;TZID=America/New_York:20251231T000000
DTEND;TZID=America/New_York:20251231T235900
LOCATION:
SUMMARY:New Year's Eve
END:VEVENT
END:VCALENDAR
