BEGIN:VCALENDAR
VERSION:2.0
PRODID:-//myllife.org//NONSGML kigkonsult.se iCalcreator 2.30.10//
CALSCALE:GREGORIAN
METHOD:PUBLISH
UID:6901fcd6-4c62-485e-83e7-68911fd54431
X-WR-CALDESC:Martin Luther King Day is a federal holiday that marks the bir
 th of Martin Luther King  Jr. It is observed on the third Monday of Januar
 y every year. His actual birthday is  Jan 15.
X-WR-RELCALID:c072022cc5fa48a60f1cc1fc0c0ef10b
X-WR-TIMEZONE:America/New_York
BEGIN:VTIMEZONE
TZID:America/New_York
BEGIN:STANDARD
TZNAME:EST
DTSTART:20251102T020000
TZOFFSETFROM:-0400
TZOFFSETTO:-0500
RDATE:20261101T020000
END:STANDARD
BEGIN:DAYLIGHT
TZNAME:EDT
DTSTART:20250309T020000
TZOFFSETFROM:-0500
TZOFFSETTO:-0400
RDATE:20260308T020000
RDATE:20270314T020000
END:DAYLIGHT
END:VTIMEZONE
BEGIN:VEVENT
UID:de4cdbbe-ea13-4043-9ca0-e65c3547296e
DTSTAMP:20260423T090102Z
DESCRIPTION:Martin Luther King Day is a federal holiday that marks the birt
 h of Martin Luther King  Jr. It is observed on the third Monday of January
  every year. His actual birthday is  Jan 15.
DTSTART;TZID=America/New_York:20260116T000000
DTEND;TZID=America/New_York:20260116T235900
LOCATION:
SUMMARY:Martin Luther King Day
END:VEVENT
END:VCALENDAR
