BEGIN:VCALENDAR
VERSION:2.0
PRODID:-//myllife.org//NONSGML kigkonsult.se iCalcreator 2.30.10//
CALSCALE:GREGORIAN
METHOD:PUBLISH
UID:06a2e9bb-bc60-482e-b50a-4a8cc9b48d06
X-WR-CALDESC:
X-WR-RELCALID:1bb26d527f77659b48739787741c8f6d
X-WR-TIMEZONE:America/New_York
BEGIN:VTIMEZONE
TZID:America/New_York
BEGIN:STANDARD
TZNAME:EST
DTSTART:20251102T020000
TZOFFSETFROM:-0400
TZOFFSETTO:-0500
RDATE:20261101T020000
END:STANDARD
BEGIN:DAYLIGHT
TZNAME:EDT
DTSTART:20250309T020000
TZOFFSETFROM:-0500
TZOFFSETTO:-0400
RDATE:20260308T020000
RDATE:20270314T020000
END:DAYLIGHT
END:VTIMEZONE
BEGIN:VEVENT
UID:0dad8031-5146-4154-a956-a4983610633c
DTSTAMP:20260423T072302Z
DESCRIPTION:
DTSTART;TZID=America/New_York:20260218T090000
DTEND;TZID=America/New_York:20260218T100000
LOCATION:https://us06web.zoom.us/j/86964747831
SUMMARY:Session #2: Daily Ramadan Readings with MyLLife
END:VEVENT
END:VCALENDAR
