BEGIN:VCALENDAR
VERSION:2.0
PRODID:-//myllife.org//NONSGML kigkonsult.se iCalcreator 2.30.10//
CALSCALE:GREGORIAN
METHOD:PUBLISH
UID:98910d53-e26e-4998-a75c-72970e7b0535
X-WR-CALDESC:
X-WR-RELCALID:e176614bb6bca50d808faaac37ca29b2
X-WR-TIMEZONE:America/New_York
BEGIN:VTIMEZONE
TZID:America/New_York
BEGIN:STANDARD
TZNAME:EST
DTSTART:20251102T020000
TZOFFSETFROM:-0400
TZOFFSETTO:-0500
RDATE:20261101T020000
END:STANDARD
BEGIN:DAYLIGHT
TZNAME:EDT
DTSTART:20250309T020000
TZOFFSETFROM:-0500
TZOFFSETTO:-0400
RDATE:20260308T020000
RDATE:20270314T020000
END:DAYLIGHT
END:VTIMEZONE
BEGIN:VEVENT
UID:32a98692-04a1-4a68-b6c4-03395ae69aee
DTSTAMP:20260423T073057Z
DESCRIPTION:
DTSTART;TZID=America/New_York:20260219T090000
DTEND;TZID=America/New_York:20260219T100000
LOCATION:https://us06web.zoom.us/j/86964747831
SUMMARY:Session #3: Daily Ramadan Readings with MyLLife
END:VEVENT
END:VCALENDAR
