BEGIN:VCALENDAR
VERSION:2.0
PRODID:-//myllife.org//NONSGML kigkonsult.se iCalcreator 2.30.10//
CALSCALE:GREGORIAN
METHOD:PUBLISH
UID:c3519681-5519-47e0-bce3-8d0aab69553c
X-WR-CALDESC:
X-WR-RELCALID:e4c033e236b489c43167adda5c975070
X-WR-TIMEZONE:America/New_York
BEGIN:VTIMEZONE
TZID:America/New_York
BEGIN:STANDARD
TZNAME:EST
DTSTART:20251102T020000
TZOFFSETFROM:-0400
TZOFFSETTO:-0500
RDATE:20261101T020000
END:STANDARD
BEGIN:DAYLIGHT
TZNAME:EDT
DTSTART:20250309T020000
TZOFFSETFROM:-0500
TZOFFSETTO:-0400
RDATE:20260308T020000
RDATE:20270314T020000
END:DAYLIGHT
END:VTIMEZONE
BEGIN:VEVENT
UID:45fe04ac-41ad-42cc-8285-3640e79383fa
DTSTAMP:20260423T073656Z
DESCRIPTION:
DTSTART;TZID=America/New_York:20260220T090000
DTEND;TZID=America/New_York:20260220T100000
LOCATION:https://us06web.zoom.us/j/86964747831
SUMMARY:Session #4: Daily Ramadan Readings with MyLLife
END:VEVENT
END:VCALENDAR
