BEGIN:VCALENDAR
VERSION:2.0
PRODID:-//myllife.org//NONSGML kigkonsult.se iCalcreator 2.30.10//
CALSCALE:GREGORIAN
METHOD:PUBLISH
UID:3d295e26-2888-470a-8e0a-fc73e9f2f019
X-WR-CALDESC:
X-WR-RELCALID:fbeeb84c1119436b8f65638f63273a7d
X-WR-TIMEZONE:America/New_York
BEGIN:VTIMEZONE
TZID:America/New_York
BEGIN:STANDARD
TZNAME:EST
DTSTART:20251102T020000
TZOFFSETFROM:-0400
TZOFFSETTO:-0500
RDATE:20261101T020000
END:STANDARD
BEGIN:DAYLIGHT
TZNAME:EDT
DTSTART:20250309T020000
TZOFFSETFROM:-0500
TZOFFSETTO:-0400
RDATE:20260308T020000
RDATE:20270314T020000
END:DAYLIGHT
END:VTIMEZONE
BEGIN:VEVENT
UID:53242b8d-ed4b-4cb5-9619-e2703b0a4e50
DTSTAMP:20260423T072236Z
DESCRIPTION:
DTSTART;TZID=America/New_York:20260221T090000
DTEND;TZID=America/New_York:20260221T100000
LOCATION:https://us06web.zoom.us/j/86964747831
SUMMARY:Session #5: Daily Ramadan Readings with MyLLife
END:VEVENT
END:VCALENDAR
