BEGIN:VCALENDAR
VERSION:2.0
PRODID:-//myllife.org//NONSGML kigkonsult.se iCalcreator 2.30.10//
CALSCALE:GREGORIAN
METHOD:PUBLISH
UID:e9576472-0c82-4238-a5fe-e50c3dad17fc
X-WR-CALDESC:
X-WR-RELCALID:93b15977a6f72cc03672bd9aa55c54d4
X-WR-TIMEZONE:America/New_York
BEGIN:VTIMEZONE
TZID:America/New_York
BEGIN:STANDARD
TZNAME:EST
DTSTART:20251102T020000
TZOFFSETFROM:-0400
TZOFFSETTO:-0500
RDATE:20261101T020000
END:STANDARD
BEGIN:DAYLIGHT
TZNAME:EDT
DTSTART:20250309T020000
TZOFFSETFROM:-0500
TZOFFSETTO:-0400
RDATE:20260308T020000
RDATE:20270314T020000
END:DAYLIGHT
END:VTIMEZONE
BEGIN:VEVENT
UID:114412b3-c7f8-49f0-9853-4343255c6056
DTSTAMP:20260423T073726Z
DESCRIPTION:
DTSTART;TZID=America/New_York:20260222T090000
DTEND;TZID=America/New_York:20260222T100000
LOCATION:https://us06web.zoom.us/j/86964747831
SUMMARY:Session #6: Daily Ramadan Readings with MyLLife
END:VEVENT
END:VCALENDAR
