BEGIN:VCALENDAR
VERSION:2.0
PRODID:-//myllife.org//NONSGML kigkonsult.se iCalcreator 2.30.10//
CALSCALE:GREGORIAN
METHOD:PUBLISH
UID:cd2cb7a2-36a7-43fc-a2bd-1412485fff62
X-WR-CALDESC:
X-WR-RELCALID:6212de466d7cd5575f56841c7bb32449
X-WR-TIMEZONE:America/New_York
BEGIN:VTIMEZONE
TZID:America/New_York
BEGIN:STANDARD
TZNAME:EST
DTSTART:20251102T020000
TZOFFSETFROM:-0400
TZOFFSETTO:-0500
RDATE:20261101T020000
END:STANDARD
BEGIN:DAYLIGHT
TZNAME:EDT
DTSTART:20250309T020000
TZOFFSETFROM:-0500
TZOFFSETTO:-0400
RDATE:20260308T020000
RDATE:20270314T020000
END:DAYLIGHT
END:VTIMEZONE
BEGIN:VEVENT
UID:a2efd9e2-670b-4214-9d21-877b92e7892e
DTSTAMP:20260423T074211Z
DESCRIPTION:
DTSTART;TZID=America/New_York:20260223T090000
DTEND;TZID=America/New_York:20260223T100000
LOCATION:https://us06web.zoom.us/j/86964747831
SUMMARY:Session #7: Daily Ramadan Readings with MyLLife
END:VEVENT
END:VCALENDAR
