BEGIN:VCALENDAR
VERSION:2.0
PRODID:-//myllife.org//NONSGML kigkonsult.se iCalcreator 2.30.10//
CALSCALE:GREGORIAN
METHOD:PUBLISH
UID:1223851e-cfef-4d5c-9b96-7fdb44866154
X-WR-CALDESC:
X-WR-RELCALID:c4a2a9c3b68461179372138ec1f7de86
X-WR-TIMEZONE:America/New_York
BEGIN:VTIMEZONE
TZID:America/New_York
BEGIN:STANDARD
TZNAME:EST
DTSTART:20251102T020000
TZOFFSETFROM:-0400
TZOFFSETTO:-0500
RDATE:20261101T020000
END:STANDARD
BEGIN:DAYLIGHT
TZNAME:EDT
DTSTART:20250309T020000
TZOFFSETFROM:-0500
TZOFFSETTO:-0400
RDATE:20260308T020000
RDATE:20270314T020000
END:DAYLIGHT
END:VTIMEZONE
BEGIN:VEVENT
UID:6d897dcb-d445-47ba-83c0-22355ce89918
DTSTAMP:20260423T073057Z
DESCRIPTION:
DTSTART;TZID=America/New_York:20260224T090000
DTEND;TZID=America/New_York:20260224T100000
LOCATION:https://us06web.zoom.us/j/86964747831
SUMMARY:Session #8: Daily Ramadan Readings with MyLLife
END:VEVENT
END:VCALENDAR
