BEGIN:VCALENDAR
VERSION:2.0
PRODID:-//myllife.org//NONSGML kigkonsult.se iCalcreator 2.30.10//
CALSCALE:GREGORIAN
METHOD:PUBLISH
UID:00b47ab8-e399-4066-a82c-8f9a5a8a19d1
X-WR-CALDESC:Join us for an evening of reflection\, learning\, and communit
 y as we gather to experience Ramadan together. This open and welcoming Ift
 ar brings Muslims and non-Muslims together to learn about the meaning of R
 amadan\, engage with MyLLife’s programs and mission\, and participate in a
  guided Qur’an reading in English. The evening will include time to connec
 t\, break the fast\, and observe prayers\, followed by a shared dinner. Wh
 ether you are familiar with Ramadan or experiencing it for the first time\
 , all are welcome to come learn\, reflect\, and gather in community.\n\nEv
 ent Details:\nDate: Saturday\, February 28\, 2026\nTime: 4:00 – 9:00 PM (p
 lease arrive on time)\nAddress: 5905 Mt. Eagle Drive\, Alexandria\, VA 223
 03\nMontebello Community Center (Montebello Condo)\n\n\n\nEvent Location:
 \nCommunity Lounge: Gathering\, presentations\, and Qur’an reading\n(As yo
 u enter\, the hall is directly in front\, with the entry door to the left\
 , before the restaurant)\nUnderground Level: Meal and prayers\n(Accessible
  via the staircase before entering the Community Lounge)\n\nRegistration F
 ee: $25 per adult | Children under 12 attend free\n\n\n\n\nEvent Agenda:\n
 4:00 – 4:30 PM: Arrival & Mingling\n4:30 – 5:15 PM: Presentation on Ramada
 n\, MyLLife Programs & Activities\, Q&A\n5:15 – 6:00 PM: Group Qur’an Read
 ing (Juz’ 12) in English\n6:05 PM: Call to Prayer\n6:10 PM: Light Refreshm
 ents to Break the Fast\n6:20 PM: Maghrib Prayer (Underground)\n6:40 PM: Di
 nner (Underground)\n8:00 PM: Isha & Taraweeh Prayers (Underground)
X-WR-RELCALID:5b1b764367cfc40cbef98054a4c1e882
X-WR-TIMEZONE:America/New_York
BEGIN:VTIMEZONE
TZID:America/New_York
BEGIN:STANDARD
TZNAME:EST
DTSTART:20251102T020000
TZOFFSETFROM:-0400
TZOFFSETTO:-0500
RDATE:20261101T020000
END:STANDARD
BEGIN:DAYLIGHT
TZNAME:EDT
DTSTART:20250309T020000
TZOFFSETFROM:-0500
TZOFFSETTO:-0400
RDATE:20260308T020000
RDATE:20270314T020000
END:DAYLIGHT
END:VTIMEZONE
BEGIN:VEVENT
UID:ebde4133-bf5e-4dc9-b900-6b162de0cdb6
DTSTAMP:20260423T072236Z
DESCRIPTION:Join us for an evening of reflection\, learning\, and community
  as we gather to experience Ramadan together. This open and welcoming Ifta
 r brings Muslims and non-Muslims together to learn about the meaning of Ra
 madan\, engage with MyLLife’s programs and mission\, and participate in a 
 guided Qur’an reading in English. The evening will include time to connect
 \, break the fast\, and observe prayers\, followed by a shared dinner. Whe
 ther you are familiar with Ramadan or experiencing it for the first time\,
  all are welcome to come learn\, reflect\, and gather in community.\n\nEve
 nt Details:\nDate: Saturday\, February 28\, 2026\nTime: 4:00 – 9:00 PM (pl
 ease arrive on time)\nAddress: 5905 Mt. Eagle Drive\, Alexandria\, VA 2230
 3\nMontebello Community Center (Montebello Condo)\n\n\n\nEvent Location:\n
 Community Lounge: Gathering\, presentations\, and Qur’an reading\n(As you 
 enter\, the hall is directly in front\, with the entry door to the left\, 
 before the restaurant)\nUnderground Level: Meal and prayers\n(Accessible v
 ia the staircase before entering the Community Lounge)\n\nRegistration Fee
 : $25 per adult | Children under 12 attend free\n\n\n\n\nEvent Agenda:\n4:
 00 – 4:30 PM: Arrival & Mingling\n4:30 – 5:15 PM: Presentation on Ramadan\
 , MyLLife Programs & Activities\, Q&A\n5:15 – 6:00 PM: Group Qur’an Readin
 g (Juz’ 12) in English\n6:05 PM: Call to Prayer\n6:10 PM: Light Refreshmen
 ts to Break the Fast\n6:20 PM: Maghrib Prayer (Underground)\n6:40 PM: Dinn
 er (Underground)\n8:00 PM: Isha & Taraweeh Prayers (Underground)
DTSTART;TZID=America/New_York:20260228T160000
DTEND;TZID=America/New_York:20260228T210000
LOCATION:5905 Mt Eagle Dr\, Montebello Community Center\, Alexandria\, VA 2
 2303 US
SUMMARY:Community Iftar Event: Open to All!
END:VEVENT
END:VCALENDAR
