BEGIN:VCALENDAR
VERSION:2.0
PRODID:-//myllife.org//NONSGML kigkonsult.se iCalcreator 2.30.10//
CALSCALE:GREGORIAN
METHOD:PUBLISH
UID:2fef4af3-1378-45cd-82a2-3141915abc55
X-WR-CALDESC:
X-WR-RELCALID:8ac0109bec7062e0c25e0eaab41e0e9e
X-WR-TIMEZONE:America/New_York
BEGIN:VTIMEZONE
TZID:America/New_York
BEGIN:STANDARD
TZNAME:EST
DTSTART:20251102T020000
TZOFFSETFROM:-0400
TZOFFSETTO:-0500
RDATE:20261101T020000
END:STANDARD
BEGIN:DAYLIGHT
TZNAME:EDT
DTSTART:20250309T020000
TZOFFSETFROM:-0500
TZOFFSETTO:-0400
RDATE:20260308T020000
RDATE:20270314T020000
END:DAYLIGHT
END:VTIMEZONE
BEGIN:VEVENT
UID:c8aa813a-c731-4e87-8faa-8a7a46f0a601
DTSTAMP:20260423T072940Z
DESCRIPTION:
DTSTART;TZID=America/New_York:20260228T090000
DTEND;TZID=America/New_York:20260228T100000
LOCATION:https://us06web.zoom.us/j/86964747831
SUMMARY:Session #12: Daily Ramadan Readings with MyLLife
END:VEVENT
END:VCALENDAR
