BEGIN:VCALENDAR
VERSION:2.0
PRODID:-//myllife.org//NONSGML kigkonsult.se iCalcreator 2.30.10//
CALSCALE:GREGORIAN
METHOD:PUBLISH
UID:2f089b61-6a1b-468f-ba5d-a745359402d4
X-WR-CALDESC:
X-WR-RELCALID:e8bb5c5ec9950d3ee3af09fe81e082fd
X-WR-TIMEZONE:America/New_York
BEGIN:VTIMEZONE
TZID:America/New_York
BEGIN:STANDARD
TZNAME:EST
DTSTART:20251102T020000
TZOFFSETFROM:-0400
TZOFFSETTO:-0500
RDATE:20261101T020000
END:STANDARD
BEGIN:DAYLIGHT
TZNAME:EDT
DTSTART:20260308T020000
TZOFFSETFROM:-0500
TZOFFSETTO:-0400
RDATE:20270314T020000
END:DAYLIGHT
END:VTIMEZONE
BEGIN:VEVENT
UID:6045ff6c-0b92-4fdc-b7b2-5d17ea0ab36d
DTSTAMP:20260423T061152Z
DESCRIPTION:
DTSTART;TZID=America/New_York:20260311T210000
DTEND;TZID=America/New_York:20260311T220000
LOCATION:https://us06web.zoom.us/j/89421008607
SUMMARY:MyLLife Weekly Admin Meeting
END:VEVENT
END:VCALENDAR
