BEGIN:VCALENDAR
VERSION:2.0
PRODID:-//myllife.org//NONSGML kigkonsult.se iCalcreator 2.30.10//
CALSCALE:GREGORIAN
METHOD:PUBLISH
UID:97e7176b-29ab-4d6e-8d12-b5321022a64c
X-WR-CALDESC:
X-WR-RELCALID:ab62b3afbb1a835e5045c091c0a7ced5
X-WR-TIMEZONE:America/New_York
BEGIN:VTIMEZONE
TZID:America/New_York
BEGIN:STANDARD
TZNAME:EST
DTSTART:20251102T020000
TZOFFSETFROM:-0400
TZOFFSETTO:-0500
RDATE:20261101T020000
END:STANDARD
BEGIN:DAYLIGHT
TZNAME:EDT
DTSTART:20260308T020000
TZOFFSETFROM:-0500
TZOFFSETTO:-0400
RDATE:20270314T020000
END:DAYLIGHT
END:VTIMEZONE
BEGIN:VEVENT
UID:d55dda72-bad9-4069-957d-f113b7e54366
DTSTAMP:20260423T054604Z
DESCRIPTION:
DTSTART;TZID=America/New_York:20260507T210000
DTEND;TZID=America/New_York:20260507T220000
LOCATION:https://us06web.zoom.us/j/89421008607
SUMMARY:MyLLife Weekly Admin Meeting
END:VEVENT
END:VCALENDAR
