BEGIN:VCALENDAR
VERSION:2.0
PRODID:-//myllife.org//NONSGML kigkonsult.se iCalcreator 2.30.10//
CALSCALE:GREGORIAN
METHOD:PUBLISH
UID:5ece7b56-5299-4f03-84f7-b22e91dfd70b
X-WR-CALDESC:Juneteenth also known as Freedom Day or Liberation Day is a ho
 liday celebrating and recognizing the emancipation of enslaved peoples in 
 the United States. It honors and commemorates the sacrifices and suffering
  of the African American community and is an important holiday in American
  history and culture.
X-WR-RELCALID:5282a11a75c4103ace08bf9522b29963
X-WR-TIMEZONE:America/New_York
BEGIN:VTIMEZONE
TZID:America/New_York
BEGIN:STANDARD
TZNAME:EST
DTSTART:20251102T020000
TZOFFSETFROM:-0400
TZOFFSETTO:-0500
RDATE:20261101T020000
RDATE:20271107T020000
END:STANDARD
BEGIN:DAYLIGHT
TZNAME:EDT
DTSTART:20260308T020000
TZOFFSETFROM:-0500
TZOFFSETTO:-0400
RDATE:20270314T020000
END:DAYLIGHT
END:VTIMEZONE
BEGIN:VEVENT
UID:abdde63f-e444-4222-9417-29ec6c3712cf
DTSTAMP:20260420T171420Z
DESCRIPTION:Juneteenth also known as Freedom Day or Liberation Day is a hol
 iday celebrating and recognizing the emancipation of enslaved peoples in t
 he United States. It honors and commemorates the sacrifices and suffering 
 of the African American community and is an important holiday in American 
 history and culture.
DTSTART;TZID=America/New_York:20260619T000000
DTEND;TZID=America/New_York:20260619T235900
LOCATION:
SUMMARY:Juneteenth
END:VEVENT
END:VCALENDAR
