BEGIN:VCALENDAR
VERSION:2.0
PRODID:-//myllife.org//NONSGML kigkonsult.se iCalcreator 2.30.10//
CALSCALE:GREGORIAN
METHOD:PUBLISH
UID:7b3e2990-66a3-4399-aca6-bada0eb23494
X-WR-CALDESC:
X-WR-RELCALID:3e19fee1cf189ab9d3f90846d69f3913
X-WR-TIMEZONE:America/New_York
BEGIN:VTIMEZONE
TZID:America/New_York
BEGIN:STANDARD
TZNAME:EST
DTSTART:20251102T020000
TZOFFSETFROM:-0400
TZOFFSETTO:-0500
RDATE:20261101T020000
RDATE:20271107T020000
END:STANDARD
BEGIN:DAYLIGHT
TZNAME:EDT
DTSTART:20260308T020000
TZOFFSETFROM:-0500
TZOFFSETTO:-0400
RDATE:20270314T020000
END:DAYLIGHT
END:VTIMEZONE
BEGIN:VEVENT
UID:2963f072-6950-4bec-9b1d-0704ff3dc803
DTSTAMP:20260423T074216Z
DESCRIPTION:
DTSTART;TZID=America/New_York:20260622T130000
DTEND;TZID=America/New_York:20260622T140000
LOCATION:https://us06web.zoom.us/j/88382595073
SUMMARY:MyLLife ESJP Weekly Status Meeting
END:VEVENT
END:VCALENDAR
