BEGIN:VCALENDAR
VERSION:2.0
PRODID:-//myllife.org//NONSGML kigkonsult.se iCalcreator 2.30.10//
CALSCALE:GREGORIAN
METHOD:PUBLISH
UID:d9b79512-cc3a-4211-95b3-cee9c51f0867
X-WR-CALDESC:
X-WR-RELCALID:35fe6683f0f98f0a8a8f8f1f0f928da8
X-WR-TIMEZONE:America/New_York
BEGIN:VTIMEZONE
TZID:America/New_York
BEGIN:STANDARD
TZNAME:EST
DTSTART:20251102T020000
TZOFFSETFROM:-0400
TZOFFSETTO:-0500
RDATE:20261101T020000
RDATE:20271107T020000
END:STANDARD
BEGIN:DAYLIGHT
TZNAME:EDT
DTSTART:20260308T020000
TZOFFSETFROM:-0500
TZOFFSETTO:-0400
RDATE:20270314T020000
END:DAYLIGHT
END:VTIMEZONE
BEGIN:VEVENT
UID:89ccf186-041f-4cfe-bfa0-e2dd7167001f
DTSTAMP:20260423T071948Z
DESCRIPTION:
DTSTART;TZID=America/New_York:20260625T210000
DTEND;TZID=America/New_York:20260625T220000
LOCATION:https://us06web.zoom.us/j/89421008607
SUMMARY:MyLLife Weekly Admin Meeting
END:VEVENT
END:VCALENDAR
