BEGIN:VCALENDAR
VERSION:2.0
PRODID:-//myllife.org//NONSGML kigkonsult.se iCalcreator 2.30.10//
CALSCALE:GREGORIAN
METHOD:PUBLISH
UID:2dd67dc4-bd23-41b6-b467-4e71924fdfe8
X-WR-CALDESC:
X-WR-RELCALID:30f0259fa58079ff8403c45de5100780
X-WR-TIMEZONE:America/New_York
BEGIN:VTIMEZONE
TZID:America/New_York
BEGIN:STANDARD
TZNAME:EST
DTSTART:20251102T020000
TZOFFSETFROM:-0400
TZOFFSETTO:-0500
RDATE:20261101T020000
RDATE:20271107T020000
END:STANDARD
BEGIN:DAYLIGHT
TZNAME:EDT
DTSTART:20260308T020000
TZOFFSETFROM:-0500
TZOFFSETTO:-0400
RDATE:20270314T020000
END:DAYLIGHT
END:VTIMEZONE
BEGIN:VEVENT
UID:ece493db-78cd-4aab-a177-3ac74d92e200
DTSTAMP:20260423T090102Z
DESCRIPTION:
DTSTART;TZID=America/New_York:20260706T130000
DTEND;TZID=America/New_York:20260706T140000
LOCATION:https://us06web.zoom.us/j/88382595073
SUMMARY:MyLLife ESJP Weekly Status Meeting
END:VEVENT
END:VCALENDAR
