BEGIN:VCALENDAR
VERSION:2.0
PRODID:-//myllife.org//NONSGML kigkonsult.se iCalcreator 2.30.10//
CALSCALE:GREGORIAN
METHOD:PUBLISH
UID:c0bc56b5-9861-43c9-89e5-deb3837f45ba
X-WR-CALDESC:
X-WR-RELCALID:06158f4e4b381228a139c58cea0e03f0
X-WR-TIMEZONE:America/New_York
BEGIN:VTIMEZONE
TZID:America/New_York
BEGIN:STANDARD
TZNAME:EST
DTSTART:20251102T020000
TZOFFSETFROM:-0400
TZOFFSETTO:-0500
RDATE:20261101T020000
RDATE:20271107T020000
END:STANDARD
BEGIN:DAYLIGHT
TZNAME:EDT
DTSTART:20260308T020000
TZOFFSETFROM:-0500
TZOFFSETTO:-0400
RDATE:20270314T020000
END:DAYLIGHT
END:VTIMEZONE
BEGIN:VEVENT
UID:87393d88-c427-4de4-94ba-062bcde2eebe
DTSTAMP:20260423T085810Z
DESCRIPTION:
DTSTART;TZID=America/New_York:20260709T210000
DTEND;TZID=America/New_York:20260709T220000
LOCATION:https://us06web.zoom.us/j/89421008607
SUMMARY:MyLLife Weekly Admin Meeting
END:VEVENT
END:VCALENDAR
